
			

BEGIN:VCALENDAR
VERSION:2.0
PRODID:-//Gippsland Primary Health Network //NONSGML Events //EN
CALSCALE:GREGORIAN
X-WR-CALNAME:Gippsland Primary Health Network
BEGIN:VEVENT
CREATED:20250424T034230Z
UID:28347
DTSTART;VALUE=DATE:20260623T100000Z
DTEND;VALUE=DATE:20260623T140000Z
DTSTAMP:20260424T195029Z
LOCATION:Bellbird Park\, 
Lampard Rd\, Drouin 

DESCRIPTION:All Health Professionals are invited to join us for this introduction session held on Bunurong country and delivered by Jillian West (NOMUCKERLENER, Indigenous Consulting and Mentoring). Jillian West is a proud Bunurong woman from Point Nepean and Palawa from the Islands of Bass Strait, with a lengthy career supporting Aboriginal and Torres Strait Island People with work, education and their life journey. This in person session, will enhance service engagement, providing those who attend the sessions with an understanding of indigenous culture, in order to deliver culturally competent services to Aboriginal and Torres Strait Islander people. Anticipated outcomes from attending the session/s include: Encouraging/enabling Aboriginal and Torres Strait Islander people to access mainstream health services Assisting providers in creating culturally competent and culturally safe environment and service Supporting mainstream health services to encourage Aboriginal and Torres Strait Islander people to self identify Increased awareness and understanding of measures relevant to mainstream primary care for Aboriginal and Torres Strait Islander people
CATEGORIES:
SUMMARY:Introducing Aboriginal and Torres Strait Islander Cultural Awareness, Understanding and Knowledge – Baw Baw
ORGANIZER:Gippsland Primary Health Network
URL;VALUE=URI:https://gphn.org.au/events/introducing-aboriginal-and-torres-strait-islander-cultural-awareness-understanding-and-knowledge-baw-baw/
TRANSP:OPAQUE
BEGIN:VALARM
ACTION:DISPLAY
TRIGGER;VALUE=DATE-TIME:20260623T100000Z
DESCRIPTION:Reminder for Introducing Aboriginal and Torres Strait Islander Cultural Awareness\, Understanding and Knowledge – Baw Baw
END:VALARM
END:VEVENT
END:VCALENDAR
