
			

BEGIN:VCALENDAR
VERSION:2.0
PRODID:-//Gippsland Primary Health Network //NONSGML Events //EN
CALSCALE:GREGORIAN
X-WR-CALNAME:Gippsland Primary Health Network
BEGIN:VEVENT
CREATED:20251010T042359Z
UID:30342
DTSTART;VALUE=DATE:20260603T190000Z
DTEND;VALUE=DATE:20260603T200000Z
DTSTAMP:20260421T151819Z
LOCATION:Online
DESCRIPTION:Gippsland PHN in collaboration with Dementia Australia would like to invite GPs /GP Registrars, Nurse Practitioners, Practice Nurses and Staff in various care settings providing support to people living with dementia to this workshop. This workshop provides an overview of dementia, including signs, symptoms, causes and an understanding of how dementia affects the brain and behaviour. You will be encouraged to reflect on your practice and ways this knowledge translates into person- centred support for people living with dementia. You will gain knowledge in: The nature of dementia, including prevalence, risks, types of dementia, how the brain works and signs of dementia. A person-centred approach to dementia support including communication, choice and decision-making. Resources and services available to you. Upon completion of this training you will receive Dementia Australia's Referrer Kit - for further information click here. Please note this session will not be recorded.
CATEGORIES:
SUMMARY:Understanding Dementia – Gippsland PHN
ORGANIZER:Gippsland Primary Health Network
URL;VALUE=URI:https://gphn.org.au/events/understanding-dementia-gippsland-phn/
TRANSP:OPAQUE
BEGIN:VALARM
ACTION:DISPLAY
TRIGGER;VALUE=DATE-TIME:20260603T190000Z
DESCRIPTION:Reminder for Understanding Dementia &#8211\; Gippsland PHN
END:VALARM
END:VEVENT
END:VCALENDAR
