
			

BEGIN:VCALENDAR
VERSION:2.0
PRODID:-//Gippsland Primary Health Network //NONSGML Events //EN
CALSCALE:GREGORIAN
X-WR-CALNAME:Gippsland Primary Health Network
BEGIN:VEVENT
CREATED:20260209T003901Z
UID:33004
DTSTART;VALUE=DATE:20260304T183000Z
DTEND;VALUE=DATE:20260304T193000Z
DTSTAMP:20260423T083249Z
LOCATION:Online
DESCRIPTION:This webinar is presented by Dr Alan Baker, a clinical immunology/allergy specialist based in Port Macquarie who actively provides advice and support through the allergy assist platform. Dr Alan Baker is a full member of the Australasian Society of Clinical Immunology and Allergy (ASCIA). What you will learn: Overview of currently available adrenaline devices in Australia Key features and delivery mechanisms of adrenaline devices ASCIA guidelines for adrenaline (epinephrine) device prescription Practical considerations for prescribing, patient education and transition between devices. Register with allergy assist® service. allergy assist® is an education and support service available to GPs and rural generalists in Australia. Ongoing webinar sessions are offered to enhance confidence in managing common allergic presentations and available treatment options.The webinar is being hosted through ACRRM’s learning platform. To join the webinar, you will need to be registered with allergy assist® . If you are not yet an allergy assist® member, you can register at no cost here: https://www.acrrm.org.au/resources/digital-health/allergy-assist About the presenter : Dr Alan Baker is a clinical immunology/allergy specialist based in Port Macquarie, NSW. He trained in immunology at The Canberra Hospital, Concord Hospital, Royal Prince Alfred Hospital, Campbeltown Hospital, and Liverpool Hospital. Alan owns a private practice in Port Macquarie and participates in the general medicine roster at Port Macquarie Base Hospital. He is also a conjoint lecturer at the UNSW Medical School.
CATEGORIES:
SUMMARY:ACRRM Webinar (allergy assist): Update on adrenaline devices available in Australia
ORGANIZER:Gippsland Primary Health Network
URL;VALUE=URI:https://gphn.org.au/events/acrrm-webinar-allergy-assist-update-on-adrenaline-devices-available-in-australia/
TRANSP:OPAQUE
BEGIN:VALARM
ACTION:DISPLAY
TRIGGER;VALUE=DATE-TIME:20260304T183000Z
DESCRIPTION:Reminder for ACRRM Webinar (allergy assist): Update on adrenaline devices available in Australia
END:VALARM
END:VEVENT
END:VCALENDAR
