
			

BEGIN:VCALENDAR
VERSION:2.0
PRODID:-//Gippsland Primary Health Network //NONSGML Events //EN
CALSCALE:GREGORIAN
X-WR-CALNAME:Gippsland Primary Health Network
BEGIN:VEVENT
CREATED:20260409T014121Z
UID:34054
DTSTART;VALUE=DATE:20260505T190000Z
DTEND;VALUE=DATE:20260505T210000Z
DTSTAMP:20260421T153137Z
LOCATION:Online
DESCRIPTION:Gippsland health professionals are invited to join Gippsland PHN and Dementia Australia for Applying a Problem-solving Approach to Behaviour Changes. A practical workshop designed to help you understand and manage dementia-related behaviours and provide person-centred support to people living with dementia. Learning outcomes: Contributing factors to behaviour changes Problem-solving behaviour changes Support strategies to prevent and reduce behaviour change Please note, this session will not be recorded.
CATEGORIES:
SUMMARY:Applying a Problem solving Approach to Behaviour Changes – Gippsland PHN
ORGANIZER:Gippsland Primary Health Network
URL;VALUE=URI:https://gphn.org.au/events/applying-a-problem-solving-approach-to-behaviour-changes-gippsland-phn/
TRANSP:OPAQUE
BEGIN:VALARM
ACTION:DISPLAY
TRIGGER;VALUE=DATE-TIME:20260505T190000Z
DESCRIPTION:Reminder for Applying a Problem solving Approach to Behaviour Changes &#8211\; Gippsland PHN
END:VALARM
END:VEVENT
END:VCALENDAR
