
			

BEGIN:VCALENDAR
VERSION:2.0
PRODID:-//Gippsland Primary Health Network //NONSGML Events //EN
CALSCALE:GREGORIAN
X-WR-CALNAME:Gippsland Primary Health Network
BEGIN:VEVENT
CREATED:20260410T062032Z
UID:34096
DTSTART;VALUE=DATE:20260603T093000Z
DTEND;VALUE=DATE:20260603T153000Z
DTSTAMP:20260420T140747Z
LOCATION:State Coal Mine - 19/37 Garden St\, Wonthaggi 
DESCRIPTION:All Gippsland based Health Professionals are invited to attend this Education event. Incidents of occupational violence and aggression (OVA) are on the rise. Addressing this growing concern, Gippsland PHN has engaged Resolution Education to offer a specialized De-escalation & OVA Training program. This training is meticulously crafted to equip your team with the vital skills necessary to manage confrontational situations in the workplace effectively. Tailored to the needs of Gippsland practices. This interactive training course provides participants with a comprehensive toolkit of essential abilities. Attendees will gain expertise in recognising and responding appropriately to individuals displaying hostility or agitation in various scenarios. The aim is to instil participants with the confidence and proficiency to de-escalate tense or potentially violent situations, fostering an environment conducive to positive and harmonious communication.
CATEGORIES:
SUMMARY:De-escalation and Occupational Violence and Aggression Training
ORGANIZER:Gippsland Primary Health Network
URL;VALUE=URI:https://gphn.org.au/events/de-escalation-and-occupational-violence-and-aggression-training/
TRANSP:OPAQUE
BEGIN:VALARM
ACTION:DISPLAY
TRIGGER;VALUE=DATE-TIME:20260603T093000Z
DESCRIPTION:Reminder for De-escalation and Occupational Violence and Aggression Training
END:VALARM
END:VEVENT
END:VCALENDAR
