
			

BEGIN:VCALENDAR
VERSION:2.0
PRODID:-//Gippsland Primary Health Network //NONSGML Events //EN
CALSCALE:GREGORIAN
X-WR-CALNAME:Gippsland Primary Health Network
BEGIN:VEVENT
CREATED:20260415T000445Z
UID:34184
DTSTART;VALUE=DATE:20260430T130000Z
DTEND;VALUE=DATE:20260430T134500Z
DTSTAMP:20260423T083238Z
LOCATION:Online
DESCRIPTION:This session will provide a practical overview of the Victorian Virtual Emergency Department (VVED) and Virtual Specialist Consult (VSC) services and how clinicians can confidently integrate them into everyday practice. The session will outline outcomes achieved to date, including impacts on access to specialist advice and clinician confidence in managing complex cases closer to home. Attendees will gain a clear, step-by-step understanding of how to access the services, what to expect from a consult, and the range of specialties currently available. Presenters:Cassie Bramston, Operations Director, VSC serviceRichard Penberthy, Strategy and Expansion Lead, VVED Audience: Primary health care professionals
CATEGORIES:
SUMMARY:Supporting patient care with the Victorian Virtual Emergency Department and Virtual Specialist Consult services – Murray PHN
ORGANIZER:Gippsland Primary Health Network
URL;VALUE=URI:https://gphn.org.au/events/supporting-patient-care-with-the-victorian-virtual-emergency-department-and-virtual-specialist-consult-services-murray-phn/
TRANSP:OPAQUE
BEGIN:VALARM
ACTION:DISPLAY
TRIGGER;VALUE=DATE-TIME:20260430T130000Z
DESCRIPTION:Reminder for Supporting patient care with the Victorian Virtual Emergency Department and Virtual Specialist Consult services &#8211\; Murray PHN
END:VALARM
END:VEVENT
END:VCALENDAR
