
			

BEGIN:VCALENDAR
VERSION:2.0
PRODID:-//Gippsland Primary Health Network //NONSGML Events //EN
CALSCALE:GREGORIAN
X-WR-CALNAME:Gippsland Primary Health Network
BEGIN:VEVENT
CREATED:20260416T012018Z
UID:34198
DTSTART;VALUE=DATE:20260513T130000Z
DTEND;VALUE=DATE:20260513T143000Z
DTSTAMP:20260421T152727Z
LOCATION:See registers for location
DESCRIPTION:Are you a Practice Manager in Gippsland? Gippsland PHN would like to invite all Gippsland based Practice Managers to How to manage busy Reception like a pro! Presenter: Wendy O'Meara, Primary Health Consultant A practice manager “manages reception like a pro” by creating clear systems, setting high service standards, and leading with consistency. This includes ensuring efficient workflows, confident handling of patient interactions and billing issues, maintaining accurate data, and providing regular coaching and feedback—resulting in a smooth, professional, and patient-focused front desk. Learning Outcomes: Demonstrate effective front desk communication by answering phone calls promptly, applying professional phone etiquette, and delivering high-quality customer service in all patient interactions. Accurately manage administrative processes by updating patient demographics, identifying and resolving Medicare rejections, and maintaining efficient and compliant reception workflows. Apply professional and organisational standards by maintaining patient privacy and confidentiality, and actively participating in performance appraisals to support continuous improvement and accountability. Traralgon - Register Bairnsdale - Register Wonthaggi - Register Wendy is well known for her practical and informative approach to supporting the management of general practice, she has a long history in general practice spanning 27 years. She has worked as a receptionist, Practice Nurse and for the past 15 years has worked as a Practice manager in a large, 24 GP practice in Gisborne Victoria. She is passionate about General Practice and has a thorough understanding of all facets, with a special interest in MBS, Chronic Disease management and the implementation of new initiatives into her practice. While working full-time, she still takes the opportunity to meet and work with new practice managers, guiding them through the complexities of General Practice. She has been working as an education consultant since 2017. Wendy will be presenting from the Traralgon Gippsland PHN Office, and will be live streamed to Gippsland PHN hosted venues in Bairnsdale and Wonthaggi Afternoon tea will be available at all venues after the presentation. Gippsland PHN looks forward to meeting with you on this day.
CATEGORIES:
SUMMARY:How to manage busy Reception like a pro for Practice Managers -Gippsland PHN
ORGANIZER:Gippsland Primary Health Network
URL;VALUE=URI:https://gphn.org.au/events/how-to-manage-busy-reception-like-a-pro-for-practice-managers-gippsland-phn/
TRANSP:OPAQUE
BEGIN:VALARM
ACTION:DISPLAY
TRIGGER;VALUE=DATE-TIME:20260513T130000Z
DESCRIPTION:Reminder for How to manage busy Reception like a pro for Practice Managers -Gippsland PHN
END:VALARM
END:VEVENT
END:VCALENDAR
