
			

BEGIN:VCALENDAR
VERSION:2.0
PRODID:-//Gippsland Primary Health Network //NONSGML Events //EN
CALSCALE:GREGORIAN
X-WR-CALNAME:Gippsland Primary Health Network
BEGIN:VEVENT
CREATED:20260424T015901Z
UID:34262
DTSTART;VALUE=DATE:20260514T150000Z
DTEND;VALUE=DATE:20260514T180000Z
DTSTAMP:20260424T181927Z
LOCATION:Melbourne or Online. Check registrations for options
DESCRIPTION:Join Men's Referral Service for a preview of the National Directory of Services for people who use violence. Held in-person or online, this launch will introduce the new directory and explore how it can support the Domestic and Family Violence sector and other professionals in their efforts to end family violence and build safer communities. The event is open to DFV and allied service sectors and will include a panel of sector experts sharing practical insights into how the Directory can be used in day-to-day work. In-person attendees will also have the opportunity to connect with colleagues with some post-panel networking. How to join: Melbourne – panel session and networking Online – join from anywhere across Australia
CATEGORIES:
SUMMARY:National Directory of Services for people who use violence: Sector Launch – Men’s Referral Service
ORGANIZER:Gippsland Primary Health Network
URL;VALUE=URI:https://gphn.org.au/events/national-directory-of-services-for-people-who-use-violence-sector-launch-mens-referral-service/
TRANSP:OPAQUE
BEGIN:VALARM
ACTION:DISPLAY
TRIGGER;VALUE=DATE-TIME:20260514T150000Z
DESCRIPTION:Reminder for National Directory of Services for people who use violence: Sector Launch &#8211\; Men&#8217\;s Referral Service
END:VALARM
END:VEVENT
END:VCALENDAR
