
			

BEGIN:VCALENDAR
VERSION:2.0
PRODID:-//Gippsland Primary Health Network //NONSGML Events //EN
CALSCALE:GREGORIAN
X-WR-CALNAME:Gippsland Primary Health Network
BEGIN:VEVENT
CREATED:20260424T044045Z
UID:34271
DTSTART;VALUE=DATE:20260526T180000Z
DTEND;VALUE=DATE:20260526T191500Z
DTSTAMP:20260424T181758Z
LOCATION:Online
DESCRIPTION:Join the End of Life Law for Clinicians (ELLC) training program for a FREE case study webinar on voluntary assisted dying (VAD) with presenters Dr Penny Burns and Dr Eliana Close. Gain clinical and legal insights including: legal requirements for having VAD conversation GPs’ roles in relation to VAD eligibility requirements for VAD decision-making capacity in the context of VAD law on VAD administration. This is an RACGP-approved CPD activity under the RACGP CPD Program.
CATEGORIES:
SUMMARY:Voluntary assisted dying in General Practice webinar: Legal and Clinical insights – End of Life Law for Clinicians
ORGANIZER:Gippsland Primary Health Network
URL;VALUE=URI:https://gphn.org.au/events/voluntary-assisted-dying-in-general-practice-webinar-legal-and-clinical-insights-end-of-life-law-for-clinicians/
TRANSP:OPAQUE
BEGIN:VALARM
ACTION:DISPLAY
TRIGGER;VALUE=DATE-TIME:20260526T180000Z
DESCRIPTION:Reminder for Voluntary assisted dying in General Practice webinar: Legal and Clinical insights &#8211\; End of Life Law for Clinicians
END:VALARM
END:VEVENT
END:VCALENDAR
